BEGIN:VCALENDAR
VERSION:2.0
PRODID:-//eventon.com NONSGML v1.0//EN
BEGIN:VEVENT
UID:69e9da4011745
DTSTAMP:20260423T093720
DTSTART:20240602T230000Z
DTEND:20240603T225900Z
LOCATION:
SUMMARY:Monday Motivation
DESCRIPTION: 
END:VEVENT
END:VCALENDAR