BEGIN:VCALENDAR
VERSION:2.0
PRODID:-//eventon.com NONSGML v1.0//EN
BEGIN:VEVENT
UID:69e733cee826b
DTSTAMP:20260421T092238
DTSTART:20210919T230000Z
DTEND:20210920T225900Z
LOCATION:
SUMMARY:Monday Motivation
DESCRIPTION: 
END:VEVENT
END:VCALENDAR