BEGIN:VCALENDAR
VERSION:2.0
PRODID:-//eventon.com NONSGML v1.0//EN
BEGIN:VEVENT
UID:69e9db332f3ce
DTSTAMP:20260423T094123
DTSTART:20210218T230000Z
DTEND:20210219T225900Z
LOCATION:
SUMMARY:Friday Fact
DESCRIPTION: 
END:VEVENT
END:VCALENDAR