BEGIN:VCALENDAR
VERSION:2.0
PRODID:-//eventon.com NONSGML v1.0//EN
BEGIN:VEVENT
UID:69e9db774245a
DTSTAMP:20260423T094231
DTSTART:20210111T230000Z
DTEND:20210112T225900Z
LOCATION:
SUMMARY:New Years Resolutions- Diary Entry 4
DESCRIPTION: 
END:VEVENT
END:VCALENDAR