BEGIN:VCALENDAR
VERSION:2.0
PRODID:-//eventon.com NONSGML v1.0//EN
BEGIN:VEVENT
UID:69e9db38439fb
DTSTAMP:20260423T094128
DTSTART:20200816T230000Z
DTEND:20200817T225900Z
LOCATION:
SUMMARY:Monday Motivation
DESCRIPTION: 
END:VEVENT
END:VCALENDAR